BEGIN:VCALENDAR
VERSION:2.0
PRODID:-//LG 14 - Bayern-Nord - ECPv6.15.20//NONSGML v1.0//EN
CALSCALE:GREGORIAN
METHOD:PUBLISH
X-ORIGINAL-URL:https://lg14.de
X-WR-CALDESC:Veranstaltungen für LG 14 - Bayern-Nord
REFRESH-INTERVAL;VALUE=DURATION:PT1H
X-Robots-Tag:noindex
X-PUBLISHED-TTL:PT1H
BEGIN:VTIMEZONE
TZID:UTC
BEGIN:STANDARD
TZOFFSETFROM:+0000
TZOFFSETTO:+0000
TZNAME:UTC
DTSTART:20250101T000000
END:STANDARD
END:VTIMEZONE
BEGIN:VEVENT
DTSTART;VALUE=DATE:20261108
DTEND;VALUE=DATE:20261109
DTSTAMP:20260423T113645
CREATED:20251210T094044Z
LAST-MODIFIED:20251210T094044Z
UID:1488-1794096000-1794182399@lg14.de
SUMMARY:Bayerische FH Meisterschaft 2026
DESCRIPTION:
URL:https://lg14.de/event/bayerische-fh-meisterschaft-2026/
LOCATION:SV-OG Kronach
CATEGORIES:lg
END:VEVENT
BEGIN:VEVENT
DTSTART;VALUE=DATE:20261114
DTEND;VALUE=DATE:20261115
DTSTAMP:20260423T113645
CREATED:20251210T094138Z
LAST-MODIFIED:20251210T094138Z
UID:1490-1794614400-1794700799@lg14.de
SUMMARY:LG-Meisterschaft RH 2026
DESCRIPTION:Egon Gutknecht / Ralf Hoffmann
URL:https://lg14.de/event/lg-meisterschaft-rh-2026/
LOCATION:SV-OG Höchstadt/Aisch
CATEGORIES:lg
END:VEVENT
END:VCALENDAR