BEGIN:VCALENDAR
VERSION:2.0
PRODID:-//LG 14 - Bayern-Nord - ECPv6.15.20//NONSGML v1.0//EN
CALSCALE:GREGORIAN
METHOD:PUBLISH
X-WR-CALNAME:LG 14 - Bayern-Nord
X-ORIGINAL-URL:https://lg14.de
X-WR-CALDESC:Veranstaltungen für LG 14 - Bayern-Nord
REFRESH-INTERVAL;VALUE=DURATION:PT1H
X-Robots-Tag:noindex
X-PUBLISHED-TTL:PT1H
BEGIN:VTIMEZONE
TZID:UTC
BEGIN:STANDARD
TZOFFSETFROM:+0000
TZOFFSETTO:+0000
TZNAME:UTC
DTSTART:20250101T000000
END:STANDARD
END:VTIMEZONE
BEGIN:VEVENT
DTSTART;VALUE=DATE:20260801
DTEND;VALUE=DATE:20260803
DTSTAMP:20260421T080005
CREATED:20251210T093823Z
LAST-MODIFIED:20251210T093823Z
UID:1483-1785542400-1785715199@lg14.de
SUMMARY:Jugendzeltlager 2026
DESCRIPTION:
URL:https://lg14.de/event/jugendzeltlager-2026/
LOCATION:SV-OG Amberg 58
CATEGORIES:lg
END:VEVENT
BEGIN:VEVENT
DTSTART;VALUE=DATE:20260815
DTEND;VALUE=DATE:20260817
DTSTAMP:20260421T080005
CREATED:20251210T093720Z
LAST-MODIFIED:20251210T093720Z
UID:1480-1786752000-1786924799@lg14.de
SUMMARY:LG-Ausscheidungsprüfung 2026
DESCRIPTION:A: Laura Wallek\nB: Tim Kramny (Ablage R. Hoffmann)\nC: Gerd Beck \nTeil 1: Michael Lindner\nTeil 2: Niklas Dratz
URL:https://lg14.de/event/lg-ausscheidungspruefung-2026/
LOCATION:SV-OG Altdorf
CATEGORIES:lg
END:VEVENT
END:VCALENDAR