BEGIN:VCALENDAR
VERSION:2.0
PRODID:-//LG 14 - Bayern-Nord - ECPv6.15.20//NONSGML v1.0//EN
CALSCALE:GREGORIAN
METHOD:PUBLISH
X-ORIGINAL-URL:https://lg14.de
X-WR-CALDESC:Veranstaltungen für LG 14 - Bayern-Nord
REFRESH-INTERVAL;VALUE=DURATION:PT1H
X-Robots-Tag:noindex
X-PUBLISHED-TTL:PT1H
BEGIN:VTIMEZONE
TZID:UTC
BEGIN:STANDARD
TZOFFSETFROM:+0000
TZOFFSETTO:+0000
TZNAME:UTC
DTSTART:20240101T000000
END:STANDARD
END:VTIMEZONE
BEGIN:VEVENT
DTSTART;VALUE=DATE:20250406
DTEND;VALUE=DATE:20250407
DTSTAMP:20260423T203827
CREATED:20241222T120945Z
LAST-MODIFIED:20250331T164824Z
UID:975-1743897600-1743983999@lg14.de
SUMMARY:LG-Testprüfung
DESCRIPTION:E. Hornung (A)\, L. Wallek (B)\, R. Hoffmann (C) \nDratz (Teil 1)\, Anton (Teil 2) \nÜbungstage/Trainingsmöglichkeiten \nEinladung Testprüfung 2025 \nMeldeschein Testprüfung 2025 \nLG-FCI-TestTeilnehmer 2025
URL:https://lg14.de/event/lg-testpruefung-2025/
LOCATION:SV-OG Dormitz
CATEGORIES:lg
END:VEVENT
BEGIN:VEVENT
DTSTART;VALUE=DATE:20250426
DTEND;VALUE=DATE:20250427
DTSTAMP:20260423T203828
CREATED:20241222T121241Z
LAST-MODIFIED:20250210T114952Z
UID:977-1745625600-1745711999@lg14.de
SUMMARY:LG-JJM IGP/Agility
DESCRIPTION:E. Hornung (IGP)\, S. Janku (Agility) \nD. Vetter (Helfer) \nEinladung zur LG-JJ Meisterschaft 2025
URL:https://lg14.de/event/lg-jjm-igp-agility-2025/
LOCATION:SV-OG Regensburg 07 und 68
CATEGORIES:lg
END:VEVENT
END:VCALENDAR