BEGIN:VCALENDAR
VERSION:2.0
PRODID:-//LG 14 - Bayern-Nord - ECPv6.15.20//NONSGML v1.0//EN
CALSCALE:GREGORIAN
METHOD:PUBLISH
X-ORIGINAL-URL:https://lg14.de
X-WR-CALDESC:Veranstaltungen für LG 14 - Bayern-Nord
REFRESH-INTERVAL;VALUE=DURATION:PT1H
X-Robots-Tag:noindex
X-PUBLISHED-TTL:PT1H
BEGIN:VTIMEZONE
TZID:UTC
BEGIN:STANDARD
TZOFFSETFROM:+0000
TZOFFSETTO:+0000
TZNAME:UTC
DTSTART:20230101T000000
END:STANDARD
END:VTIMEZONE
BEGIN:VEVENT
DTSTART;VALUE=DATE:20240830
DTEND;VALUE=DATE:20240903
DTSTAMP:20260424T070103
CREATED:20240219T125050Z
LAST-MODIFIED:20240718T093133Z
UID:167-1724976000-1725321599@lg14.de
SUMMARY:LG Jugendzeltlager
DESCRIPTION:Anbei die Einladung\, das Rahmenprogramm und der Meldeschein für das Jugendzeltlager 2024: \nLG14 Jugendzeltlager Allgemein \nLG14 Jugendzeltlager Rahmenprogramm \nLG14 Jugendzeltlager Anmeldung
URL:https://lg14.de/event/lg-jugendzeltlager/
LOCATION:SV-OG Dormitz
CATEGORIES:lg
END:VEVENT
BEGIN:VEVENT
DTSTART;VALUE=DATE:20240928
DTEND;VALUE=DATE:20240930
DTSTAMP:20260424T070103
CREATED:20240219T125157Z
LAST-MODIFIED:20240909T205438Z
UID:170-1727481600-1727654399@lg14.de
SUMMARY:LG-FH
DESCRIPTION:Liebe Mitglieder der Landesgruppe Bayern-Nord\, \ndie Ortsgruppe Kirchheim hat die Durchführung der Landesgruppen-Fährtenhundprüfung am 28. und 29. September 2024 übernommen. \nDie Veranstaltung findet erstmalig\, in den Fluren rund um das Ortsgruppengelände in 97268 Kirchheim statt. Hierfür vorweg ein herzliches Dankeschön! \nAlle Informationen zur Veranstaltung findet Ihr in folgenden Schreiben: \nLG-FH 2024 Einladung Allgemein \nLG-FH 2024 Einladung Info \nLG-FH 2024 Anfahrt \nMeldeschein: \nLG-FH 2024 Meldeschein (Word) \nLG-FH 2024 Meldeschein (PDF) \nFährtengegenstände: \nIFH1 \n \nIFH2 \n \nRichter IFH I: E. Hornung / IFH II: I. Balonier
URL:https://lg14.de/event/lg-fh/
LOCATION:SV-OG Kirchheim
CATEGORIES:lg
END:VEVENT
END:VCALENDAR