BEGIN:VCALENDAR
VERSION:2.0
PRODID:-//LG 14 - Bayern-Nord - ECPv6.15.20//NONSGML v1.0//EN
CALSCALE:GREGORIAN
METHOD:PUBLISH
X-WR-CALNAME:LG 14 - Bayern-Nord
X-ORIGINAL-URL:https://lg14.de
X-WR-CALDESC:Veranstaltungen für LG 14 - Bayern-Nord
REFRESH-INTERVAL;VALUE=DURATION:PT1H
X-Robots-Tag:noindex
X-PUBLISHED-TTL:PT1H
BEGIN:VTIMEZONE
TZID:UTC
BEGIN:STANDARD
TZOFFSETFROM:+0000
TZOFFSETTO:+0000
TZNAME:UTC
DTSTART:20250101T000000
END:STANDARD
END:VTIMEZONE
BEGIN:VEVENT
DTSTART;VALUE=DATE:20260725
DTEND;VALUE=DATE:20260726
DTSTAMP:20260421T081029
CREATED:20251210T093520Z
LAST-MODIFIED:20251210T093520Z
UID:1478-1784937600-1785023999@lg14.de
SUMMARY:LG-JJ Zuchtschau 2026
DESCRIPTION:Oßmann\, Ludwig
URL:https://lg14.de/event/lg-jj-zuchtschau-2026/
LOCATION:SV-OG Langenzenn
CATEGORIES:lg
END:VEVENT
END:VCALENDAR