BEGIN:VCALENDAR
VERSION:2.0
PRODID:-//LG 14 - Bayern-Nord - ECPv6.15.20//NONSGML v1.0//EN
CALSCALE:GREGORIAN
METHOD:PUBLISH
X-ORIGINAL-URL:https://lg14.de
X-WR-CALDESC:Veranstaltungen für LG 14 - Bayern-Nord
REFRESH-INTERVAL;VALUE=DURATION:PT1H
X-Robots-Tag:noindex
X-PUBLISHED-TTL:PT1H
BEGIN:VTIMEZONE
TZID:UTC
BEGIN:STANDARD
TZOFFSETFROM:+0000
TZOFFSETTO:+0000
TZNAME:UTC
DTSTART:20240101T000000
END:STANDARD
END:VTIMEZONE
BEGIN:VEVENT
DTSTART;VALUE=DATE:20251115
DTEND;VALUE=DATE:20251116
DTSTAMP:20260423T112430
CREATED:20241222T122554Z
LAST-MODIFIED:20241222T122830Z
UID:994-1763164800-1763251199@lg14.de
SUMMARY:LG-Meisterschaft RH
DESCRIPTION:Richter: E. Gutknecht / R. Hoffmann
URL:https://lg14.de/event/lg-meisterschaft-rh-2025/
LOCATION:SV-OG Höchstadt/Aisch
CATEGORIES:lg
END:VEVENT
END:VCALENDAR