BEGIN:VCALENDAR
VERSION:2.0
PRODID:-//LG 14 - Bayern-Nord - ECPv6.15.20//NONSGML v1.0//EN
CALSCALE:GREGORIAN
METHOD:PUBLISH
X-WR-CALNAME:LG 14 - Bayern-Nord
X-ORIGINAL-URL:https://lg14.de
X-WR-CALDESC:Veranstaltungen für LG 14 - Bayern-Nord
REFRESH-INTERVAL;VALUE=DURATION:PT1H
X-Robots-Tag:noindex
X-PUBLISHED-TTL:PT1H
BEGIN:VTIMEZONE
TZID:UTC
BEGIN:STANDARD
TZOFFSETFROM:+0000
TZOFFSETTO:+0000
TZNAME:UTC
DTSTART:20240101T000000
END:STANDARD
END:VTIMEZONE
BEGIN:VEVENT
DTSTART;VALUE=DATE:20250829
DTEND;VALUE=DATE:20250901
DTSTAMP:20260423T173138
CREATED:20241222T122222Z
LAST-MODIFIED:20241222T122617Z
UID:988-1756425600-1756684799@lg14.de
SUMMARY:Jugendzeltlager
DESCRIPTION:
URL:https://lg14.de/event/jugendzeltlager/
LOCATION:SV-OG Untersiemau-Weißenbrunn e.V.
CATEGORIES:lg
END:VEVENT
END:VCALENDAR