BEGIN:VCALENDAR
VERSION:2.0
PRODID:-//LG 14 - Bayern-Nord - ECPv6.15.20//NONSGML v1.0//EN
CALSCALE:GREGORIAN
METHOD:PUBLISH
X-ORIGINAL-URL:https://lg14.de
X-WR-CALDESC:Veranstaltungen für LG 14 - Bayern-Nord
REFRESH-INTERVAL;VALUE=DURATION:PT1H
X-Robots-Tag:noindex
X-PUBLISHED-TTL:PT1H
BEGIN:VTIMEZONE
TZID:UTC
BEGIN:STANDARD
TZOFFSETFROM:+0000
TZOFFSETTO:+0000
TZNAME:UTC
DTSTART:20230101T000000
END:STANDARD
END:VTIMEZONE
BEGIN:VEVENT
DTSTART;VALUE=DATE:20241110
DTEND;VALUE=DATE:20241111
DTSTAMP:20260424T053514
CREATED:20240219T125245Z
LAST-MODIFIED:20241109T101427Z
UID:173-1731196800-1731283199@lg14.de
SUMMARY:Bayerische FH Meisterschaft
DESCRIPTION:Einladung \nInfo \nZeitplan \nKatalog Bay. FH 2024
URL:https://lg14.de/event/bayerische-fh-meisterschaft/
LOCATION:SV-OG Kronach
CATEGORIES:lg
END:VEVENT
END:VCALENDAR