BEGIN:VCALENDAR
VERSION:2.0
PRODID:-//LG 14 - Bayern-Nord - ECPv6.15.20//NONSGML v1.0//EN
CALSCALE:GREGORIAN
METHOD:PUBLISH
X-ORIGINAL-URL:https://lg14.de
X-WR-CALDESC:Veranstaltungen für LG 14 - Bayern-Nord
REFRESH-INTERVAL;VALUE=DURATION:PT1H
X-Robots-Tag:noindex
X-PUBLISHED-TTL:PT1H
BEGIN:VTIMEZONE
TZID:UTC
BEGIN:STANDARD
TZOFFSETFROM:+0000
TZOFFSETTO:+0000
TZNAME:UTC
DTSTART:20230101T000000
END:STANDARD
END:VTIMEZONE
BEGIN:VEVENT
DTSTART;VALUE=DATE:20240804
DTEND;VALUE=DATE:20240805
DTSTAMP:20260424T095147
CREATED:20240219T124807Z
LAST-MODIFIED:20240407T133956Z
UID:162-1722729600-1722815999@lg14.de
SUMMARY:LG Zuchtschau
DESCRIPTION:Richtereinteilung LG 2024
URL:https://lg14.de/event/lg-zuchtschau/
LOCATION:SV-OG Aischgrund
CATEGORIES:lg
END:VEVENT
END:VCALENDAR