BEGIN:VCALENDAR
VERSION:2.0
PRODID:-//LG 14 - Bayern-Nord - ECPv6.15.20//NONSGML v1.0//EN
CALSCALE:GREGORIAN
METHOD:PUBLISH
X-WR-CALNAME:LG 14 - Bayern-Nord
X-ORIGINAL-URL:https://lg14.de
X-WR-CALDESC:Veranstaltungen für LG 14 - Bayern-Nord
REFRESH-INTERVAL;VALUE=DURATION:PT1H
X-Robots-Tag:noindex
X-PUBLISHED-TTL:PT1H
BEGIN:VTIMEZONE
TZID:UTC
BEGIN:STANDARD
TZOFFSETFROM:+0000
TZOFFSETTO:+0000
TZNAME:UTC
DTSTART:20230101T000000
END:STANDARD
END:VTIMEZONE
BEGIN:VEVENT
DTSTART;VALUE=DATE:20240407
DTEND;VALUE=DATE:20240408
DTSTAMP:20260424T161944
CREATED:20240219T124238Z
LAST-MODIFIED:20240407T143940Z
UID:153-1712448000-1712534399@lg14.de
SUMMARY:LG-Testprüfung
DESCRIPTION:Herzlichen Glückwunsch der Siegerin und allen Platzierten! \nErgebnis Test \nHier gibt´s den Zeitplan für euch: \n \nDie Teilnehmer sind online!!! \nhttps://www.hundeverein-hagelstadt.de/lg-fci-qualifikation-testpr%C3%BCfung-der-lg-14-bayern-nord/teilnehmer/ \n  \nRichter A: I. Balonier / B: H. Pecho / C: G. Beck.\nHelfer Teil 1: I. Pfeifer / Teil 2: T. Kraus. \nMeldeschein: \nMeldeschein Testprüfung 2024 (Word) \nMeldeschein Testprüfung 2024 (PDF) \nEinladung
URL:https://lg14.de/event/lg-testpruefung/
LOCATION:SV-OG Hagelstadt/Höhenberg
CATEGORIES:lg
ATTACH;FMTTYPE=image/jpeg:https://lg14.de/wp-content/uploads/2024/02/image-e1708349065771.jpg
END:VEVENT
END:VCALENDAR